BEGIN:VCALENDAR
VERSION:2.0
PRODID:-//Plone.org//NONSGML plone.app.event//EN
X-WR-TIMEZONE:Asia/Taipei
BEGIN:VEVENT
SUMMARY:【七海講堂】戰後台灣建築觀察
DTSTART;VALUE=DATE:20260307
DTEND;VALUE=DATE:20260308
DTSTAMP;VALUE=DATE-TIME:20260422T020704Z
UID:9232bc7cf5414d168f763abf2da2b11c@210.61.119.70:8080
CATEGORIES:其他
CREATED;VALUE=DATE-TIME:20260307T085624Z
LAST-MODIFIED;VALUE=DATE-TIME:20260307T085649Z
URL:http://www.cckf.org.tw/zh/activities/2026030701
END:VEVENT
END:VCALENDAR
