BEGIN:VCALENDAR
VERSION:2.0
PRODID:-//Plone.org//NONSGML plone.app.event//EN
X-WR-TIMEZONE:Asia/Taipei
BEGIN:VEVENT
SUMMARY:荷蘭萊頓大學國際亞洲研究所Philippe Peycam主任來訪
DTSTART;VALUE=DATE:20251204
DTEND;VALUE=DATE:20251205
DTSTAMP;VALUE=DATE-TIME:20260425T204954Z
UID:b18b5d0d74b6434094321ac6c9d06fc9@210.61.119.70:8080
CATEGORIES:學術交流
CREATED;VALUE=DATE-TIME:20260122T075303Z
LAST-MODIFIED;VALUE=DATE-TIME:20260122T075537Z
URL:http://www.cckf.org.tw/zh/activities/2026012206
END:VEVENT
END:VCALENDAR
