BEGIN:VCALENDAR
VERSION:2.0
PRODID:-//Plone.org//NONSGML plone.app.event//EN
X-WR-TIMEZONE:Asia/Taipei
BEGIN:VEVENT
SUMMARY:澳洲國立大學裴凝教授來訪
DTSTART;VALUE=DATE:20250219
DTEND;VALUE=DATE:20250220
DTSTAMP;VALUE=DATE-TIME:20260420T105840Z
UID:d2dafdf2f57049e4980d3fe3afe675d1@210.61.119.70:8080
CATEGORIES:學術交流
CREATED;VALUE=DATE-TIME:20250224T081533Z
LAST-MODIFIED;VALUE=DATE-TIME:20250224T082642Z
URL:http://www.cckf.org.tw/zh/activities/2025022401
END:VEVENT
END:VCALENDAR
