BEGIN:VCALENDAR
VERSION:2.0
PRODID:-//Plone.org//NONSGML plone.app.event//EN
X-WR-TIMEZONE:Asia/Taipei
BEGIN:VEVENT
SUMMARY:本會同仁赴頭寮謁陵
DTSTART;VALUE=DATE:20240111
DTEND;VALUE=DATE:20240112
DTSTAMP;VALUE=DATE-TIME:20260420T125545Z
UID:476e71b2dd954afa840c31fd8bce1b23@210.61.119.70:8080
CATEGORIES:其他
CREATED;VALUE=DATE-TIME:20240227T090328Z
LAST-MODIFIED;VALUE=DATE-TIME:20240502T062551Z
URL:http://www.cckf.org.tw/zh/activities/2024022702
END:VEVENT
END:VCALENDAR
