BEGIN:VCALENDAR
VERSION:2.0
PRODID:-//Plone.org//NONSGML plone.app.event//EN
X-WR-TIMEZONE:Asia/Taipei
BEGIN:VEVENT
SUMMARY:陳執行長純一赴香港拜會本會董事與監察人，並訪
 問本會亞太漢學中心
DTSTART;VALUE=DATE:20230919
DTEND;VALUE=DATE:20230920
DTSTAMP;VALUE=DATE-TIME:20260420T145650Z
UID:feb3437c0be7466eb2006ded6a6633fa@210.61.119.70:8080
CATEGORIES:學術交流
CREATED;VALUE=DATE-TIME:20240226T024726Z
LAST-MODIFIED;VALUE=DATE-TIME:20240226T024732Z
URL:http://www.cckf.org.tw/zh/activities/2024022606
END:VEVENT
END:VCALENDAR
