BEGIN:VCALENDAR
VERSION:2.0
PRODID:-//Plone.org//NONSGML plone.app.event//EN
X-WR-TIMEZONE:Asia/Taipei
BEGIN:VEVENT
SUMMARY:第四屆民國史研習營：「通商口岸與近代世界的形
 成」
DTSTART;VALUE=DATE:20180702
DTEND;VALUE=DATE:20180710
DTSTAMP;VALUE=DATE-TIME:20260421T214425Z
UID:8a15342393254ba28f8169b74c461d01@210.61.119.70:8080
CATEGORIES:研習營
CREATED;VALUE=DATE-TIME:20180919T071459Z
LAST-MODIFIED;VALUE=DATE-TIME:20181107T085108Z
LOCATION:天津南開大學\, 大陸
URL:http://www.cckf.org.tw/zh/activities/2018091902
END:VEVENT
END:VCALENDAR
