BEGIN:VCALENDAR
VERSION:2.0
PRODID:-//Plone.org//NONSGML plone.app.event//EN
X-WR-TIMEZONE:Asia/Taipei
BEGIN:VEVENT
SUMMARY:基金會成立三十周年系列講座：許倬雲董事於美國
 匹茲堡大學
DTSTART;VALUE=DATE:20180330
DTEND;VALUE=DATE:20180331
DTSTAMP;VALUE=DATE-TIME:20260420T133950Z
UID:7fb6f0fbbd514e1cbc9ee9a3adb8fef6@210.65.89.245:8080
CATEGORIES:其他
CREATED;VALUE=DATE-TIME:20180330T003314Z
LAST-MODIFIED;VALUE=DATE-TIME:20231113T022605Z
LOCATION:美國溫德姆匹茲堡大學中心酒店
URL:http://www.cckf.org.tw/zh/activities/2018033001
END:VEVENT
END:VCALENDAR
