BEGIN:VCALENDAR
VERSION:2.0
PRODID:-//Plone.org//NONSGML plone.app.event//EN
X-WR-TIMEZONE:Asia/Taipei
BEGIN:VEVENT
SUMMARY:澳洲國立大學亞太研究學院中華全球研究中心主任
 Dr. Benjamin Penny來訪
DTSTART;VALUE=DATE:20161007
DTEND;VALUE=DATE:20161008
DTSTAMP;VALUE=DATE-TIME:20260423T180416Z
UID:8192e9bb616c4c3abcdcd2ed6265a0bf@210.65.89.245:8080
CATEGORIES:學術交流
CREATED;VALUE=DATE-TIME:20161118T024219Z
LAST-MODIFIED;VALUE=DATE-TIME:20161118T024227Z
LOCATION:基金會\, 臺北
URL:http://www.cckf.org.tw/zh/activities/2016111816
END:VEVENT
END:VCALENDAR
