BEGIN:VCALENDAR
VERSION:2.0
PRODID:-//Plone.org//NONSGML plone.app.event//EN
X-WR-TIMEZONE:Asia/Taipei
BEGIN:VEVENT
SUMMARY:朱雲漢執行長拜訪俄羅斯聖彼得堡大學
DTSTART;VALUE=DATE:20160825
DTEND;VALUE=DATE:20160826
DTSTAMP;VALUE=DATE-TIME:20260420T124457Z
UID:02e1a778a69b4abca3342e15bfa68322@210.65.89.245:8080
CATEGORIES:學術交流
CREATED;VALUE=DATE-TIME:20160913T014432Z
LAST-MODIFIED;VALUE=DATE-TIME:20160913T015517Z
LOCATION:聖彼得堡大學\, 俄羅斯
URL:http://www.cckf.org.tw/zh/activities/2016091310
END:VEVENT
END:VCALENDAR
