BEGIN:VCALENDAR
VERSION:2.0
PRODID:-//Plone.org//NONSGML plone.app.event//EN
X-WR-TIMEZONE:Asia/Taipei
BEGIN:VEVENT
SUMMARY:德國杜賓根大學校長Bernd Engler博士來訪
DTSTART;VALUE=DATE:20160302
DTEND;VALUE=DATE:20160303
DTSTAMP;VALUE=DATE-TIME:20260425T214003Z
UID:5205bda86f524307893ba2d20385c70a@210.65.89.245:8080
CATEGORIES:學術交流
CREATED;VALUE=DATE-TIME:20160629T141024Z
LAST-MODIFIED;VALUE=DATE-TIME:20160922T060320Z
LOCATION:臺北圓山大飯店\, 臺灣
URL:http://www.cckf.org.tw/zh/activities/2016030201
END:VEVENT
END:VCALENDAR
