BEGIN:VCALENDAR
VERSION:2.0
PRODID:-//Plone.org//NONSGML plone.app.event//EN
X-WR-TIMEZONE:Asia/Taipei
BEGIN:VEVENT
SUMMARY:韓國高等教育財團朴仁國事務總長來訪
DTSTART;VALUE=DATE:20151201
DTEND;VALUE=DATE:20151202
DTSTAMP;VALUE=DATE-TIME:20260425T213932Z
UID:37076b9a1c5d4c9380289e206d7a6335@210.65.89.245:8080
CATEGORIES:學術交流
CREATED;VALUE=DATE-TIME:20151202T094432Z
LAST-MODIFIED;VALUE=DATE-TIME:20160901T091222Z
LOCATION:中央研究院\, 臺灣
URL:http://www.cckf.org.tw/zh/activities/2015120101
END:VEVENT
END:VCALENDAR
