BEGIN:VCALENDAR
VERSION:2.0
PRODID:-//Plone.org//NONSGML plone.app.event//EN
X-WR-TIMEZONE:Asia/Taipei
BEGIN:VEVENT
SUMMARY:亞洲研究學會夏季年會
DTSTART;VALUE=DATE:20150622
DTEND;VALUE=DATE:20150625
DTSTAMP;VALUE=DATE-TIME:20260425T191039Z
UID:ebe4d61420d549b28da9415949d0dd4b@210.65.89.245:8080
CATEGORIES:研討會
CREATED;VALUE=DATE-TIME:20150629T124106Z
LAST-MODIFIED;VALUE=DATE-TIME:20160901T091200Z
LOCATION:中央研究院\, 臺灣
URL:http://www.cckf.org.tw/zh/activities/2015062401
END:VEVENT
END:VCALENDAR
