BEGIN:VCALENDAR
VERSION:2.0
PRODID:-//Plone.org//NONSGML plone.app.event//EN
X-WR-TIMEZONE:Asia/Taipei
BEGIN:VEVENT
SUMMARY:朱雲漢執行長赴韓國出席韓國基金會全球公共外交
 網絡論壇
DTSTART;VALUE=DATE:20150520
DTEND;VALUE=DATE:20150521
DTSTAMP;VALUE=DATE-TIME:20260420T125430Z
UID:dfd3e3ae17f145a8b357baa348386d2b@210.65.89.245:8080
CATEGORIES:學術交流
CREATED;VALUE=DATE-TIME:20150712T093939Z
LAST-MODIFIED;VALUE=DATE-TIME:20160905T055750Z
LOCATION:韓國濟州島
URL:http://www.cckf.org.tw/zh/activities/2015052001
END:VEVENT
END:VCALENDAR
