BEGIN:VCALENDAR
VERSION:2.0
PRODID:-//Plone.org//NONSGML plone.app.event//EN
X-WR-TIMEZONE:Asia/Taipei
BEGIN:VEVENT
SUMMARY:「中華民國關鍵的二十年，1971-1990」學術研討會
DTSTART;VALUE=DATE:20150307
DTEND;VALUE=DATE:20150308
DTSTAMP;VALUE=DATE-TIME:20260420T124513Z
UID:de3aadf1c94e49cfab66a592f78439f6@210.65.89.245:8080
CATEGORIES:研討會
CREATED;VALUE=DATE-TIME:20160721T031642Z
LAST-MODIFIED;VALUE=DATE-TIME:20170214T011035Z
LOCATION:國史館\, 臺灣
URL:http://www.cckf.org.tw/zh/activities/2015030701
END:VEVENT
END:VCALENDAR
