BEGIN:VCALENDAR
VERSION:2.0
PRODID:-//Plone.org//NONSGML plone.app.event//EN
X-WR-TIMEZONE:Asia/Taipei
BEGIN:VEVENT
SUMMARY:美國史丹福大學胡佛研究院檔案館魏肯(Eric Wakin)館
 長來訪
DTSTART;VALUE=DATE:20150305
DTEND;VALUE=DATE:20150306
DTSTAMP;VALUE=DATE-TIME:20260421T192817Z
UID:0bff127ba1344cdf916aed117062836c@210.65.89.245:8080
CATEGORIES:學術交流
CREATED;VALUE=DATE-TIME:20150712T093147Z
LAST-MODIFIED;VALUE=DATE-TIME:20160922T061800Z
LOCATION:基金會\, 臺灣
URL:http://www.cckf.org.tw/zh/activities/2015030501
END:VEVENT
END:VCALENDAR
