BEGIN:VCALENDAR
VERSION:2.0
PRODID:-//Plone.org//NONSGML plone.app.event//EN
X-WR-TIMEZONE:Asia/Taipei
BEGIN:VEVENT
SUMMARY:2014第二屆e-考據與文史研習營
DTSTART;VALUE=DATE:20140823
DTEND;VALUE=DATE:20140830
DTSTAMP;VALUE=DATE-TIME:20260424T125313Z
UID:abf301a2e898413baf958a5b667ce5cb@210.65.89.245:8080
CATEGORIES:研習營
CREATED;VALUE=DATE-TIME:20140719T085354Z
LAST-MODIFIED;VALUE=DATE-TIME:20170214T012354Z
LOCATION:浙江大學\, 中國
URL:http://www.cckf.org.tw/zh/activities/2014082301
END:VEVENT
END:VCALENDAR
