BEGIN:VCALENDAR
VERSION:2.0
PRODID:-//Plone.org//NONSGML plone.app.event//EN
X-WR-TIMEZONE:Asia/Taipei
BEGIN:VEVENT
SUMMARY:2014第二屆兩岸人類學研習營：「健康環境」
DTSTART;VALUE=DATE:20140725
DTEND;VALUE=DATE:20140804
DTSTAMP;VALUE=DATE-TIME:20260424T205706Z
UID:9bad2bc474a9453d8ca7e1dd0aababb9@210.65.89.245:8080
CATEGORIES:研習營
CREATED;VALUE=DATE-TIME:20140719T085029Z
LAST-MODIFIED;VALUE=DATE-TIME:20170214T012908Z
LOCATION:廣州中山大學\, 中國
URL:http://www.cckf.org.tw/zh/activities/2014072501
END:VEVENT
END:VCALENDAR
