BEGIN:VCALENDAR
VERSION:2.0
PRODID:-//Plone.org//NONSGML plone.app.event//EN
X-WR-TIMEZONE:Asia/Taipei
BEGIN:VEVENT
SUMMARY:基金會成立二十周年慶祝酒會
DTSTART;VALUE=DATE:20090105
DTEND;VALUE=DATE:20090106
DTSTAMP;VALUE=DATE-TIME:20260423T215231Z
UID:6098b3fb77554a728b043de01e09146b@210.65.89.245:8080
CATEGORIES:其他
CREATED;VALUE=DATE-TIME:19990712T024546Z
LAST-MODIFIED;VALUE=DATE-TIME:20160901T091234Z
LOCATION:台北君悅飯店\, 臺灣
URL:http://www.cckf.org.tw/zh/activities/20090105
END:VEVENT
END:VCALENDAR
