BEGIN:VCALENDAR
VERSION:2.0
PRODID:-//Plone.org//NONSGML plone.app.event//EN
X-WR-TIMEZONE:Asia/Taipei
BEGIN:VEVENT
SUMMARY:錢復董事參加「世變下的臺灣」國際研討會並發表
 演說
DTSTART;VALUE=DATE:20070426
DTEND;VALUE=DATE:20070427
DTSTAMP;VALUE=DATE-TIME:20260420T124340Z
UID:8972aadb9cea40c480fce69a3b49ce14@210.65.89.245:8080
CATEGORIES:學術交流
CREATED;VALUE=DATE-TIME:20070711T085510Z
LAST-MODIFIED;VALUE=DATE-TIME:20160921T022508Z
LOCATION:美國耶魯大學
URL:http://www.cckf.org.tw/zh/activities/2007042601
END:VEVENT
END:VCALENDAR
