BEGIN:VCALENDAR
VERSION:2.0
PRODID:-//Plone.org//NONSGML plone.app.event//EN
X-WR-TIMEZONE:Asia/Taipei
BEGIN:VEVENT
SUMMARY:「華北水資源與社會組織」研討會
DTSTART;VALUE=DATE:20040621
DTEND;VALUE=DATE:20040624
DTSTAMP;VALUE=DATE-TIME:20260422T213034Z
UID:ab93a0b8b9cd49ea806a9bc389985628@210.65.89.245:8080
CATEGORIES:研討會
CREATED;VALUE=DATE-TIME:20040711T084913Z
LAST-MODIFIED;VALUE=DATE-TIME:20170214T011118Z
LOCATION:法國遠東學院
URL:http://www.cckf.org.tw/zh/activities/2004062101
END:VEVENT
END:VCALENDAR
