BEGIN:VCALENDAR
VERSION:2.0
PRODID:-//Plone.org//NONSGML plone.app.event//EN
X-WR-TIMEZONE:Asia/Taipei
BEGIN:VEVENT
SUMMARY:美洲辦事處喬遷暨啟用酒會
DTSTART;VALUE=DATE:19940426
DTEND;VALUE=DATE:19940427
DTSTAMP;VALUE=DATE-TIME:20260420T105808Z
UID:4b5ec180586e48659b0da500011ce304@210.65.89.245:8080
CATEGORIES:其他
CREATED;VALUE=DATE-TIME:19940712T024249Z
LAST-MODIFIED;VALUE=DATE-TIME:20160901T091212Z
LOCATION:基金會美洲辦事處\, 美國
URL:http://www.cckf.org.tw/zh/activities/1994042601
END:VEVENT
END:VCALENDAR
