BEGIN:VCALENDAR
VERSION:2.0
PRODID:-//Plone.org//NONSGML plone.app.event//EN
X-WR-TIMEZONE:Asia/Taipei
BEGIN:VEVENT
SUMMARY:歐洲漢學史國際研討會
DTSTART;VALUE=DATE:19920417
DTEND;VALUE=DATE:19920423
DTSTAMP;VALUE=DATE-TIME:20260420T125053Z
UID:23afd7694b9d421da437941ad86ed8c8@210.65.89.245:8080
CATEGORIES:研討會
CREATED;VALUE=DATE-TIME:19920711T083649Z
LAST-MODIFIED;VALUE=DATE-TIME:20170214T011444Z
LOCATION:臺北圓山大飯店\, 臺灣
URL:http://www.cckf.org.tw/zh/activities/1992041701
END:VEVENT
END:VCALENDAR
