BEGIN:VCALENDAR
VERSION:2.0
PRODID:-//Plone.org//NONSGML plone.app.event//EN
X-WR-TIMEZONE:Asia/Taipei
BEGIN:VEVENT
SUMMARY:Associate Director John Ottomar Groschwitz from the Center for Eas
 t Asian Studies of Stanford University visited the Foundation
DTSTART;VALUE=DATE:20250901
DTEND;VALUE=DATE:20250902
DTSTAMP;VALUE=DATE-TIME:20260425T212110Z
UID:98fe80d6b15b403e9c0d14e264c8b3ec@210.61.119.70:8080
CATEGORIES:Visits
CREATED;VALUE=DATE-TIME:20260121T072027Z
LAST-MODIFIED;VALUE=DATE-TIME:20260122T075641Z
URL:http://www.cckf.org.tw/en/activities/2026012102
END:VEVENT
END:VCALENDAR
