BEGIN:VCALENDAR
VERSION:2.0
PRODID:-//Plone.org//NONSGML plone.app.event//EN
X-WR-TIMEZONE:Asia/Taipei
BEGIN:VEVENT
SUMMARY:Dr. Lesley Ma from the Department of Modern and Contemporary Art a
 t The Metropolitan Museum of Art in New York visited the Foundation
DTSTART;VALUE=DATE:20251023
DTEND;VALUE=DATE:20251024
DTSTAMP;VALUE=DATE-TIME:20260425T211654Z
UID:ce850ef7d7b04bc3822375157f829588@210.61.119.70:8080
CATEGORIES:Visits
CREATED;VALUE=DATE-TIME:20260121T071534Z
LAST-MODIFIED;VALUE=DATE-TIME:20260122T075619Z
URL:http://www.cckf.org.tw/en/activities/2026012101
END:VEVENT
END:VCALENDAR
