BEGIN:VCALENDAR
VERSION:2.0
PRODID:-//Plone.org//NONSGML plone.app.event//EN
X-WR-TIMEZONE:Asia/Taipei
BEGIN:VEVENT
SUMMARY:Professor Benjamin Penny of School of Culture\, History and Langua
 ge\, the Australian National University visited the Foundation
DTSTART;VALUE=DATE:20250219
DTEND;VALUE=DATE:20250220
DTSTAMP;VALUE=DATE-TIME:20260420T125052Z
UID:a67412663bc041c6bc9d3e69fd608498@210.61.119.70:8080
CATEGORIES:Visits
CREATED;VALUE=DATE-TIME:20250224T081922Z
LAST-MODIFIED;VALUE=DATE-TIME:20250224T081927Z
URL:http://www.cckf.org.tw/en/activities/2025022402
END:VEVENT
END:VCALENDAR
