BEGIN:VCALENDAR
VERSION:2.0
PRODID:-//Plone.org//NONSGML plone.app.event//EN
X-WR-TIMEZONE:Asia/Taipei
BEGIN:VEVENT
SUMMARY:President Chun-i Chen meets with members of the Foundation’s Boa
 rd of Directors and Supervisory Board in Hong Kong and visits The Chinese 
 University of Hong Kong—Chiang Ching-kuo Foundation Asia-Pacific Centre 
 for Chinese Studies
DTSTART;VALUE=DATE:20230919
DTEND;VALUE=DATE:20230920
DTSTAMP;VALUE=DATE-TIME:20260422T173843Z
UID:e93b984563c14e14ab706171dbba25ce@210.61.119.70:8080
CATEGORIES:Visits
CREATED;VALUE=DATE-TIME:20240306T071436Z
LAST-MODIFIED;VALUE=DATE-TIME:20240306T071543Z
URL:http://www.cckf.org.tw/en/activities/2024030612
END:VEVENT
END:VCALENDAR
