BEGIN:VCALENDAR
VERSION:2.0
PRODID:-//Plone.org//NONSGML plone.app.event//EN
X-WR-TIMEZONE:Asia/Taipei
BEGIN:VEVENT
SUMMARY:Visit of Professor Weitseng Chen of the National University of Sin
 gapore\, Faculty of Law
DTSTART;VALUE=DATE:20240201
DTEND;VALUE=DATE:20240202
DTSTAMP;VALUE=DATE-TIME:20260420T105910Z
UID:628846870af3467bb3f499a2558f8cde@210.61.119.70:8080
CATEGORIES:Visits
CREATED;VALUE=DATE-TIME:20240306T064655Z
LAST-MODIFIED;VALUE=DATE-TIME:20240306T064704Z
URL:http://www.cckf.org.tw/en/activities/2024030605
END:VEVENT
END:VCALENDAR
