BEGIN:VCALENDAR
VERSION:2.0
PRODID:-//Plone.org//NONSGML plone.app.event//EN
X-WR-TIMEZONE:Asia/Taipei
BEGIN:VEVENT
SUMMARY:President Chu Participated in the International Conference on Cybe
 rinfrastructure for Chinese Studies at Harvard Center Shanghai
DTSTART;VALUE=DATE:20180316
DTEND;VALUE=DATE:20180317
DTSTAMP;VALUE=DATE-TIME:20260420T105912Z
UID:79d1b9696cd64950bb9db83f220d9d71@210.61.119.70:8080
CATEGORIES:Visits
CREATED;VALUE=DATE-TIME:20231116T083928Z
LAST-MODIFIED;VALUE=DATE-TIME:20231116T083932Z
URL:http://www.cckf.org.tw/en/activities/2023111603
END:VEVENT
END:VCALENDAR
