BEGIN:VCALENDAR
VERSION:2.0
PRODID:-//Plone.org//NONSGML plone.app.event//EN
X-WR-TIMEZONE:Asia/Taipei
BEGIN:VEVENT
SUMMARY:President Chu Participated in the “Democracy\, National Identity
 \, and Foreign Policy in Asia” Forum and the “Value Diplomacy” Inter
 national Conference\, Hosted by the Asan Institute for Policy Studies
DTSTART;VALUE=DATE:20190605
DTEND;VALUE=DATE:20190606
DTSTAMP;VALUE=DATE-TIME:20260422T181059Z
UID:4bea3af0ca3746638feac5d3d81ed383@210.61.119.70:8080
CATEGORIES:Visits
CREATED;VALUE=DATE-TIME:20231115T080615Z
LAST-MODIFIED;VALUE=DATE-TIME:20231115T080618Z
URL:http://www.cckf.org.tw/en/activities/2023111561
END:VEVENT
END:VCALENDAR
