BEGIN:VCALENDAR
VERSION:2.0
PRODID:-//Plone.org//NONSGML plone.app.event//EN
X-WR-TIMEZONE:Asia/Taipei
BEGIN:VEVENT
SUMMARY:Visit by Gunter Schubert\, Director of the European Research Cente
 r on Contemporary Taiwan at the University of Tübingen\, Germany
DTSTART;VALUE=DATE:20221007
DTEND;VALUE=DATE:20221008
DTSTAMP;VALUE=DATE-TIME:20260422T185916Z
UID:488991e5b1804ca0b4f8fa5bd30d6d0b@210.61.119.70:8080
CATEGORIES:Visits
CREATED;VALUE=DATE-TIME:20231115T055602Z
LAST-MODIFIED;VALUE=DATE-TIME:20231115T055605Z
URL:http://www.cckf.org.tw/en/activities/2023111525
END:VEVENT
END:VCALENDAR
