BEGIN:VCALENDAR
VERSION:2.0
PRODID:-//Plone.org//NONSGML plone.app.event//EN
X-WR-TIMEZONE:Asia/Taipei
BEGIN:VEVENT
SUMMARY:President Yun-han Chu visited Saint Petersburg State University\, 
 Russia
DTSTART;VALUE=DATE:20160825
DTEND;VALUE=DATE:20160826
DTSTAMP;VALUE=DATE-TIME:20260420T105840Z
UID:3925ccb0cc694782929178ae1dcb8042@210.65.89.245:8080
CATEGORIES:Visits
CREATED;VALUE=DATE-TIME:20160913T014733Z
LAST-MODIFIED;VALUE=DATE-TIME:20160913T015449Z
LOCATION:Saint Petersburg State University\, Russia
URL:http://www.cckf.org.tw/en/activities/2016091311
END:VEVENT
END:VCALENDAR
