BEGIN:VCALENDAR
VERSION:2.0
PRODID:-//Plone.org//NONSGML plone.app.event//EN
X-WR-TIMEZONE:Asia/Taipei
BEGIN:VEVENT
SUMMARY:The Rector of Tübingen University Professor Dr. Bernd Engler Visi
 ted the Foundation
DTSTART;VALUE=DATE:20160302
DTEND;VALUE=DATE:20160303
DTSTAMP;VALUE=DATE-TIME:20260425T232536Z
UID:a660c839327b44be8acf8c128a5bff73@210.65.89.245:8080
CATEGORIES:Visits
CREATED;VALUE=DATE-TIME:20160629T141024Z
LAST-MODIFIED;VALUE=DATE-TIME:20160901T124158Z
LOCATION:Taipei Grand Hotel\, Taiwan
URL:http://www.cckf.org.tw/en/activities/2016030201
END:VEVENT
END:VCALENDAR
