BEGIN:VCALENDAR
VERSION:2.0
PRODID:-//Plone.org//NONSGML plone.app.event//EN
X-WR-TIMEZONE:Asia/Taipei
BEGIN:VEVENT
SUMMARY:AAS-in Asia Conference: AAS in Motion
DTSTART;VALUE=DATE:20150622
DTEND;VALUE=DATE:20150625
DTSTAMP;VALUE=DATE-TIME:20260425T204627Z
UID:ffcdb9c2120244bbaa560311f5503170@210.65.89.245:8080
CATEGORIES:Conferences
CREATED;VALUE=DATE-TIME:20150629T124106Z
LAST-MODIFIED;VALUE=DATE-TIME:20160901T124208Z
LOCATION:Academia Sinica\, Taiwan
URL:http://www.cckf.org.tw/en/activities/2015062401
END:VEVENT
END:VCALENDAR
