BEGIN:VCALENDAR
VERSION:2.0
PRODID:-//Plone.org//NONSGML plone.app.event//EN
X-WR-TIMEZONE:Asia/Taipei
BEGIN:VEVENT
SUMMARY:President Yun-han Chu Travelled to Korea to Attend a Meeting of th
 e Global Public Diplomacy Network
DTSTART;VALUE=DATE:20150520
DTEND;VALUE=DATE:20150521
DTSTAMP;VALUE=DATE-TIME:20260420T105709Z
UID:3945a22d0e474f45a0d9db969f64885c@210.65.89.245:8080
CATEGORIES:Visits
CREATED;VALUE=DATE-TIME:20150712T093939Z
LAST-MODIFIED;VALUE=DATE-TIME:20160901T124204Z
LOCATION:Jeju\, Korea
URL:http://www.cckf.org.tw/en/activities/2015052001
END:VEVENT
END:VCALENDAR
