BEGIN:VCALENDAR
VERSION:2.0
PRODID:-//Plone.org//NONSGML plone.app.event//EN
X-WR-TIMEZONE:Asia/Taipei
BEGIN:VEVENT
SUMMARY:Conference on "Twenty Key Years in the History of the Republic of 
 China\, 1971-1990"
DTSTART;VALUE=DATE:20150307
DTEND;VALUE=DATE:20150308
DTSTAMP;VALUE=DATE-TIME:20260420T105839Z
UID:72a394c81c2b4c1292501ec0566928a6@210.65.89.245:8080
CATEGORIES:Conferences
CREATED;VALUE=DATE-TIME:20160721T031642Z
LAST-MODIFIED;VALUE=DATE-TIME:20160901T124208Z
LOCATION:Academia Historica\, Taiwan
URL:http://www.cckf.org.tw/en/activities/2015030701
END:VEVENT
END:VCALENDAR
