BEGIN:VCALENDAR
VERSION:2.0
PRODID:-//Plone.org//NONSGML plone.app.event//EN
X-WR-TIMEZONE:Asia/Taipei
BEGIN:VEVENT
SUMMARY:Professor Eric Wakin (Robert H. Malott Director of Library and Arc
 hives\, Hoover Institution) Visited the Foundation
DTSTART;VALUE=DATE:20150305
DTEND;VALUE=DATE:20150306
DTSTAMP;VALUE=DATE-TIME:20260421T192803Z
UID:cf3080e0a25f4cf4a5cd84fbe8555348@210.65.89.245:8080
CATEGORIES:Visits
CREATED;VALUE=DATE-TIME:20150712T093147Z
LAST-MODIFIED;VALUE=DATE-TIME:20160901T124205Z
LOCATION:CCK Foundation\, Taiwan
URL:http://www.cckf.org.tw/en/activities/2015030501
END:VEVENT
END:VCALENDAR
