BEGIN:VCALENDAR
VERSION:2.0
PRODID:-//Plone.org//NONSGML plone.app.event//EN
X-WR-TIMEZONE:Asia/Taipei
BEGIN:VEVENT
SUMMARY:2014 Second Camp in “Cross-Strait Anthropology”
DTSTART;VALUE=DATE:20140725
DTEND;VALUE=DATE:20140804
DTSTAMP;VALUE=DATE-TIME:20260424T190651Z
UID:a748ab4206e94c699c42a9d87a96cf3a@210.65.89.245:8080
CATEGORIES:Camps
CREATED;VALUE=DATE-TIME:20140719T085029Z
LAST-MODIFIED;VALUE=DATE-TIME:20160901T124210Z
LOCATION:Sun Yat-sen University in Guangzhou\, China
URL:http://www.cckf.org.tw/en/activities/2014072501
END:VEVENT
END:VCALENDAR
