BEGIN:VCALENDAR
VERSION:2.0
PRODID:-//Plone.org//NONSGML plone.app.event//EN
X-WR-TIMEZONE:Asia/Taipei
BEGIN:VEVENT
SUMMARY:Reception to Celebrate the Foundation's Twentieth Anniversary
DTSTART;VALUE=DATE:20090105
DTEND;VALUE=DATE:20090106
DTSTAMP;VALUE=DATE-TIME:20260423T174822Z
UID:7ba8b173e9974e259a0a1987bc598307@210.65.89.245:8080
CATEGORIES:Other
CREATED;VALUE=DATE-TIME:20160810T063359Z
LAST-MODIFIED;VALUE=DATE-TIME:20160901T124213Z
LOCATION:Grand Hyatt Taipei\, Taiwan
URL:http://www.cckf.org.tw/en/activities/20090105
END:VEVENT
END:VCALENDAR
