BEGIN:VCALENDAR
VERSION:2.0
PRODID:-//Plone.org//NONSGML plone.app.event//EN
X-WR-TIMEZONE:Asia/Taipei
BEGIN:VEVENT
SUMMARY:Conference on "Water Control and Social Organization in Northern C
 hina"
DTSTART;VALUE=DATE:20040621
DTEND;VALUE=DATE:20040624
DTSTAMP;VALUE=DATE-TIME:20260422T185734Z
UID:7f671b98ca21433c83f2a1b71a028d99@210.65.89.245:8080
CATEGORIES:Conferences
CREATED;VALUE=DATE-TIME:20040711T084913Z
LAST-MODIFIED;VALUE=DATE-TIME:20160901T124201Z
LOCATION:Ecole française d'Extrême-Orient\, France
URL:http://www.cckf.org.tw/en/activities/2004062101
END:VEVENT
END:VCALENDAR
