BEGIN:VCALENDAR
VERSION:2.0
PRODID:-//Plone.org//NONSGML plone.app.event//EN
X-WR-TIMEZONE:Asia/Taipei
BEGIN:VEVENT
SUMMARY:Reception to Celebrate the Foundation's Fifteenth Anniversary\, Am
 erican Region
DTSTART;VALUE=DATE:20040305
DTEND;VALUE=DATE:20040307
DTSTAMP;VALUE=DATE-TIME:20260420T105838Z
UID:085f9231204b4c0b8908a2f147d96435@210.65.89.245:8080
CATEGORIES:Other
CREATED;VALUE=DATE-TIME:20040711T084804Z
LAST-MODIFIED;VALUE=DATE-TIME:20160901T124201Z
LOCATION:San Diego\, USA
URL:http://www.cckf.org.tw/en/activities/2004030501
END:VEVENT
END:VCALENDAR
