BEGIN:VCALENDAR
VERSION:2.0
PRODID:-//Plone.org//NONSGML plone.app.event//EN
X-WR-TIMEZONE:Asia/Taipei
BEGIN:VEVENT
SUMMARY:Reception to Celebrate the Relocation of the American Regional Off
 ice
DTSTART;VALUE=DATE:19940426
DTEND;VALUE=DATE:19940427
DTSTAMP;VALUE=DATE-TIME:20260420T124323Z
UID:3477fd5a826443ccb64cb0fd0e39e4f1@210.65.89.245:8080
CATEGORIES:Other
CREATED;VALUE=DATE-TIME:19940712T024249Z
LAST-MODIFIED;VALUE=DATE-TIME:20160901T124200Z
LOCATION:CCK Foundation\, American Regional Office\, USA
URL:http://www.cckf.org.tw/en/activities/1994042601
END:VEVENT
END:VCALENDAR
