BEGIN:VCALENDAR
VERSION:2.0
PRODID:-//Plone.org//NONSGML plone.app.event//EN
X-WR-TIMEZONE:Asia/Taipei
BEGIN:VEVENT
SUMMARY:Reception to Celebrate the Foundation's Fifth Anniversary
DTSTART;VALUE=DATE:19940108
DTEND;VALUE=DATE:19940109
DTSTAMP;VALUE=DATE-TIME:20260420T105638Z
UID:0eedb95787d24672bee044f09cb32092@210.65.89.245:8080
CATEGORIES:Other
CREATED;VALUE=DATE-TIME:19940712T024159Z
LAST-MODIFIED;VALUE=DATE-TIME:20160901T124159Z
LOCATION:Sheraton Grand Taipei Hotel\, Taiwan
URL:http://www.cckf.org.tw/en/activities/1994010801
END:VEVENT
END:VCALENDAR
